BEGIN:VCALENDAR
VERSION:2.0
PRODID:-//CEAST - ECPv6.15.13//NONSGML v1.0//EN
CALSCALE:GREGORIAN
METHOD:PUBLISH
X-WR-CALNAME:CEAST
X-ORIGINAL-URL:https://www.ceast.ao
X-WR-CALDESC:Eventos para CEAST
REFRESH-INTERVAL;VALUE=DURATION:PT1H
X-Robots-Tag:noindex
X-PUBLISHED-TTL:PT1H
BEGIN:VTIMEZONE
TZID:UTC
BEGIN:STANDARD
TZOFFSETFROM:+0000
TZOFFSETTO:+0000
TZNAME:UTC
DTSTART:20250101T000000
END:STANDARD
END:VTIMEZONE
BEGIN:VEVENT
DTSTART;VALUE=DATE:20260421
DTEND;VALUE=DATE:20260422
DTSTAMP:20260425T215255
CREATED:20260303T110721Z
LAST-MODIFIED:20260303T110721Z
UID:1960-1776729600-1776815999@www.ceast.ao
SUMMARY:Cerimónia de Despedida Aeroporto Internacional 4 de Fevereiro
DESCRIPTION:A visita pastoral de Papa Leão XIV culminará com a Cerimónia Oficial de Despedida\, a realizar-se no Aeroporto Internacional 4 de Fevereiro. \nO momento será marcado por gestos de gratidão\, palavras de encorajamento e pela expressão de comunhão entre o Santo Padre\, as autoridades presentes e o povo angolano. Esta cerimónia encerrará dias intensos de fé\, diálogo e proximidade pastoral\, deixando uma mensagem de esperança\, unidade e compromisso renovado com os valores do Evangelho. \nA partida do Santo Padre assinala o fim de uma visita histórica\, cujos frutos espirituais e pastorais permanecerão vivos no coração da Igreja e da sociedade.
URL:https://www.ceast.ao/event/cerimonia-de-despedida-aeroporto-internacional-4-de-fevereiro/
ATTACH;FMTTYPE=image/png:https://www.ceast.ao/wp-content/uploads/2026/03/Papa-Leao.png
END:VEVENT
END:VCALENDAR