BEGIN:VCALENDAR
VERSION:2.0
PRODID:-//CEAST - ECPv6.15.13//NONSGML v1.0//EN
CALSCALE:GREGORIAN
METHOD:PUBLISH
X-ORIGINAL-URL:https://www.ceast.ao
X-WR-CALDESC:Eventos para CEAST
REFRESH-INTERVAL;VALUE=DURATION:PT1H
X-Robots-Tag:noindex
X-PUBLISHED-TTL:PT1H
BEGIN:VTIMEZONE
TZID:UTC
BEGIN:STANDARD
TZOFFSETFROM:+0000
TZOFFSETTO:+0000
TZNAME:UTC
DTSTART:20250101T000000
END:STANDARD
END:VTIMEZONE
BEGIN:VEVENT
DTSTART;VALUE=DATE:20260419
DTEND;VALUE=DATE:20260420
DTSTAMP:20260425T205117
CREATED:20260303T105118Z
LAST-MODIFIED:20260303T105118Z
UID:1956-1776556800-1776643199@www.ceast.ao
SUMMARY:Luanda | Icolo e Bengo
DESCRIPTION:No âmbito da visita pastoral de Papa Leão XIV\, a programação do dia contempla dois momentos de profunda vivência espiritual e comunhão com o povo de Deus. \nÀs 09h30\, será celebrada a Santa Missa no Kilamba\, reunindo fiéis de diversas paróquias e comunidades para um momento solene de fé\, oração e unidade. \nJá às 16h00\, terá lugar o Terço e Encontro com os Peregrinos no Santuário da Nossa Senhora da Muxima\, em Icolo e Bengo**\, espaço emblemático de devoção mariana em Angola. O momento será marcado pela oração do Santo Rosário e por um encontro especial com os peregrinos\, reforçando a mensagem de esperança\, reconciliação e confiança na intercessão de Nossa Senhora. \nEste dia será\, assim\, vivido com intensa espiritualidade e grande participação dos fiéis\, constituindo mais um marco significativo da visita papal.
URL:https://www.ceast.ao/event/luanda-icolo-e-bengo/
ATTACH;FMTTYPE=image/png:https://www.ceast.ao/wp-content/uploads/2026/03/Papa-Leao.png
END:VEVENT
END:VCALENDAR